View In:
ArcGIS JavaScript
ArcGIS Online Map Viewer
ArcGIS Earth
Service Description: Basemap/SaukDEM2020WGS
Name: Basemap/SaukDEM2020WGS
Description:
Single Fused Map Cache: true
Tile Info:
- Height: 256
- Width: 256
- DPI: 96
-
Levels of Detail: 11
- Format: MIXED
- Compression Quality: 75.0
- LERC Error: NaN
- Origin: X: -2.00377E7
Y: 3.02411E7
- Spatial Reference: 102100
(3857)
LatestVCSWkid(0)
Storage Info:
- Storage Format: esriMapCacheStorageModeCompactV2
- Packet Size: 128
Extent:
XMin: -1.0055030168485679E7
YMin: 5332515.7821256565
XMax: -9972626.10447755
YMax: 5411781.61905733
Spatial Reference: 102100
(3857)
LatestVCSWkid(0)
Initial Extent:
XMin: -1.0055030168485679E7
YMin: 5332515.7821256565
XMax: -9972626.10447755
YMax: 5411781.61905733
Spatial Reference: 102100
(3857)
LatestVCSWkid(0)
Full Extent:
XMin: -1.0055030168485679E7
YMin: 5332515.7821256565
XMax: -9972626.10447755
YMax: 5411781.61905733
Spatial Reference: 102100
(3857)
LatestVCSWkid(0)
Pixel Size X: 0.6096012192024375
Pixel Size Y: 0.609601219202438
Band Count: 1
Pixel Type: F32
RasterFunction Infos: {"rasterFunctionInfos": [
{
"name": "None",
"description": "Make a Raster or Raster Dataset into a Function Raster Dataset.",
"help": ""
},
{
"name": "Raster Function Template Slope",
"description": "This layer provides slope values calculated dynamically from the elevation data (within the current extents) using the server-side slope function applied to a DEM layer. The values are integer and represent the angle of the downward sloping terrain (0 to 90 degrees). Note slope is a function of the pixel size of the request, so at smaller scales the slope values are smaller as pixel sizes increase. ",
"help": ""
},
{
"name": "Raster Function Template Hillshade",
"description": "This map provides a hillshaded surface (single band grayscale image) generated dynamically using the hillshade server-side function on the DEM layer. The hillshading is based on a solar altitude angle of 45 degrees, and solar aspect angle of 315 degrees. The z factor is varied based on scale so that a suitable hillshade is visible at all scales. ",
"help": ""
},
{
"name": "None",
"description": "Make a Raster or Raster Dataset into a Function Raster Dataset.",
"help": ""
}
]}
Mensuration Capabilities: Basic
Inspection Capabilities:
Has Histograms: true
Has Colormap: false
Has Multi Dimensions : false
Rendering Rule:
Min Scale: 577790.554289
Max Scale: 564.248588
Min LOD: 0
Max LOD: 10
Copyright Text:
Service Data Type: esriImageServiceDataTypeGeneric
Min Values: 689.76043701172
Max Values: 1595.9079589844
Mean Values: 966.31495595752
Standard Deviation Values: 155.11400587906
Object ID Field:
Fields:
None
Default Mosaic Method: Center
Allowed Mosaic Methods:
SortField:
SortValue: null
Mosaic Operator: First
Default Compression Quality: 75
Default Resampling Method: Bilinear
Max Record Count: null
Max Image Height: 4100
Max Image Width: 15000
Max Download Image Count: null
Max Mosaic Image Count: null
Allow Raster Function: true
Allow Copy: true
Allow Analysis: true
Allow Compute TiePoints: false
Supports Statistics: false
Supports Advanced Queries: false
Use StandardizedQueries: true
Raster Type Infos:
Name: Raster Dataset
Description: Supports all ArcGIS Raster Datasets
Help:
Has Raster Attribute Table: false
Edit Fields Info: null
Ownership Based AccessControl For Rasters: null
Child Resources:
Info
Histograms
Statistics
Key Properties
Legend
Raster Function Infos
Supported Operations:
Export Image
Identify
Measure
Compute Histograms
Compute Statistics Histograms
Get Samples
Compute Class Statistics
Query Boundary
Compute Pixel Location
Compute Angles
Validate
Project